BEGIN:VCALENDAR
VERSION:2.0
PRODID:spatie/icalendar-generator
DESCRIPTION:Events from Author Stefanie Gilmour
X-WR-CALDESC:Events from Author Stefanie Gilmour
REFRESH-INTERVAL;VALUE=DURATION:PT1440M
X-PUBLISHED-TTL:PT1440M
BEGIN:VTIMEZONE
TZID:America/Detroit
BEGIN:STANDARD
DTSTART:20251102T020000Z
TZOFFSETFROM:-0400
TZOFFSETTO:-0500
END:STANDARD
BEGIN:DAYLIGHT
DTSTART:20260308T020000Z
TZOFFSETFROM:-0500
TZOFFSETTO:-0400
END:DAYLIGHT
END:VTIMEZONE
BEGIN:VTIMEZONE
TZID:UTC
BEGIN:STANDARD
DTSTART:20250727T163303Z
TZOFFSETFROM:+0000
TZOFFSETTO:+0000
END:STANDARD
END:VTIMEZONE
BEGIN:VEVENT
UID:57-57
DTSTAMP:20260423T163303Z
SUMMARY:Kalamazoo Comic Con (Day 3 of 3)
LOCATION:Kalamazoo Expo Center 2900 Lake St  Kalamazoo MI 49048
ORGANIZER;CN=Stefanie:MAILTO:stefanie.gilmour@gmail.com
DTSTART;TZID=America/Detroit:20260412T100000
DTEND;TZID=America/Detroit:20260412T170000
X-ALT-DESC;FMTTYPE=TEXT/HTML:
CATEGORIES:Author Event
URL;VALUE=URI:https://stefaniegilmour.com/mc-events/kalamazoo-comic-con-day
 -3-of-3/
METHOD:PUBLISH
END:VEVENT
END:VCALENDAR